BEGIN:VCALENDAR
VERSION:2.0
PRODID:-//The Kibworth Band - ECPv6.15.20//NONSGML v1.0//EN
CALSCALE:GREGORIAN
METHOD:PUBLISH
X-ORIGINAL-URL:https://kibworthband.co.uk
X-WR-CALDESC:Events for The Kibworth Band
REFRESH-INTERVAL;VALUE=DURATION:PT1H
X-Robots-Tag:noindex
X-PUBLISHED-TTL:PT1H
BEGIN:VTIMEZONE
TZID:Europe/London
BEGIN:DAYLIGHT
TZOFFSETFROM:+0000
TZOFFSETTO:+0100
TZNAME:BST
DTSTART:20240331T010000
END:DAYLIGHT
BEGIN:STANDARD
TZOFFSETFROM:+0100
TZOFFSETTO:+0000
TZNAME:GMT
DTSTART:20241027T010000
END:STANDARD
BEGIN:DAYLIGHT
TZOFFSETFROM:+0000
TZOFFSETTO:+0100
TZNAME:BST
DTSTART:20250330T010000
END:DAYLIGHT
BEGIN:STANDARD
TZOFFSETFROM:+0100
TZOFFSETTO:+0000
TZNAME:GMT
DTSTART:20251026T010000
END:STANDARD
BEGIN:DAYLIGHT
TZOFFSETFROM:+0000
TZOFFSETTO:+0100
TZNAME:BST
DTSTART:20260329T010000
END:DAYLIGHT
BEGIN:STANDARD
TZOFFSETFROM:+0100
TZOFFSETTO:+0000
TZNAME:GMT
DTSTART:20261025T010000
END:STANDARD
END:VTIMEZONE
BEGIN:VEVENT
DTSTART;TZID=Europe/London:20251204T190000
DTEND;TZID=Europe/London:20251204T210000
DTSTAMP:20260423T181141
CREATED:20250821T092210Z
LAST-MODIFIED:20250821T092210Z
UID:10000051-1764874800-1764882000@kibworthband.co.uk
SUMMARY:Christmas @ The Hub
DESCRIPTION:🎄 Kibworth Business Group Presents: A Festive Evening at the Community Hub 🎄\n📍 Kibworth Community Hub\n📅 Thursday 4th December\n🕔 5:00pm – 9:00pm \nJoin us for a magical evening of community spirit and seasonal cheer as the Kibworth Business Group hosts a festive celebration at the heart of our village! \n✨ What’s Happening: \n\n🧶 Craft Stalls: Discover handmade treasures\, perfect for gifting or treating yourself.\n🎅 A Visit from Santa: Bring the little ones for a special meet-and-greet with Father Christmas himself!\n📻 Harborough FM Live: Enjoy the buzz of live broadcasting and festive tunes from our local radio favourites.\n🎺 Carols with Kibworth Band: Soak up the sounds of the season with beautiful brass renditions of classic carols.\n\nWhether you’re shopping for unique gifts\, enjoying the music\, or simply soaking in the festive atmosphere\, this is an evening not to be missed. Let’s come together to celebrate our wonderful community and support local businesses. \n🧤 Wrap up warm\, bring your friends and family\, and let the festivities begin
URL:https://kibworthband.co.uk/event/christmas-the-hub/
LOCATION:Kibworth Community Hub\, School Road\, Kibworth Beauchamp\, Leicestershire\, LE8 0EW\, United Kingdom
GEO:52.5382023;-0.996833
X-APPLE-STRUCTURED-LOCATION;VALUE=URI;X-ADDRESS=Kibworth Community Hub School Road Kibworth Beauchamp Leicestershire LE8 0EW United Kingdom;X-APPLE-RADIUS=500;X-TITLE=School Road:geo:-0.996833,52.5382023
END:VEVENT
BEGIN:VEVENT
DTSTART;TZID=Europe/London:20251213T150000
DTEND;TZID=Europe/London:20251213T180000
DTSTAMP:20260423T181141
CREATED:20250318T090154Z
LAST-MODIFIED:20260421T194310Z
UID:10000047-1765638000-1765648800@kibworthband.co.uk
SUMMARY:Christmas Concert
DESCRIPTION:An evening of festive music featuring your local brass band\, The Kibworth Band and the Kibworth Centenary Youth Brass Bands \n\nKibworth Community Hub\nSchool Road\,Kibworth Beauchamp\,Leicestershire\,LE8 0JE \nSaturday 13th December @ 3:00pm Start\nDoors Open @ 2:30pm\nTickets £8.00\nRefreshments available too!
URL:https://kibworthband.co.uk/event/christmas2025/
LOCATION:Kibworth Community Hub\, School Road\, Kibworth Beauchamp\, Leicestershire\, LE8 0EW\, United Kingdom
CATEGORIES:All Bands,Senior Band,Youth Bands
ATTACH;FMTTYPE=image/jpeg:https://kibworthband.co.uk/wp-content/uploads/2025/03/CHRISTMAS-CONCERT.jpg
ORGANIZER;CN="Kibworth Band":MAILTO:tickets@kibworthband.co.uk
GEO:52.5382023;-0.996833
X-APPLE-STRUCTURED-LOCATION;VALUE=URI;X-ADDRESS=Kibworth Community Hub School Road Kibworth Beauchamp Leicestershire LE8 0EW United Kingdom;X-APPLE-RADIUS=500;X-TITLE=School Road:geo:-0.996833,52.5382023
END:VEVENT
END:VCALENDAR