BEGIN:VCALENDAR
VERSION:2.0
PRODID:-//The Kibworth Band - ECPv6.15.20//NONSGML v1.0//EN
CALSCALE:GREGORIAN
METHOD:PUBLISH
X-WR-CALNAME:The Kibworth Band
X-ORIGINAL-URL:https://kibworthband.co.uk
X-WR-CALDESC:Events for The Kibworth Band
REFRESH-INTERVAL;VALUE=DURATION:PT1H
X-Robots-Tag:noindex
X-PUBLISHED-TTL:PT1H
BEGIN:VTIMEZONE
TZID:Europe/London
BEGIN:DAYLIGHT
TZOFFSETFROM:+0000
TZOFFSETTO:+0100
TZNAME:BST
DTSTART:20240331T010000
END:DAYLIGHT
BEGIN:STANDARD
TZOFFSETFROM:+0100
TZOFFSETTO:+0000
TZNAME:GMT
DTSTART:20241027T010000
END:STANDARD
BEGIN:DAYLIGHT
TZOFFSETFROM:+0000
TZOFFSETTO:+0100
TZNAME:BST
DTSTART:20250330T010000
END:DAYLIGHT
BEGIN:STANDARD
TZOFFSETFROM:+0100
TZOFFSETTO:+0000
TZNAME:GMT
DTSTART:20251026T010000
END:STANDARD
BEGIN:DAYLIGHT
TZOFFSETFROM:+0000
TZOFFSETTO:+0100
TZNAME:BST
DTSTART:20260329T010000
END:DAYLIGHT
BEGIN:STANDARD
TZOFFSETFROM:+0100
TZOFFSETTO:+0000
TZNAME:GMT
DTSTART:20261025T010000
END:STANDARD
END:VTIMEZONE
BEGIN:VEVENT
DTSTART;TZID=Europe/London:20251109T103000
DTEND;TZID=Europe/London:20251109T120000
DTSTAMP:20260423T210801
CREATED:20250806T125051Z
LAST-MODIFIED:20250806T125051Z
UID:10000049-1762684200-1762689600@kibworthband.co.uk
SUMMARY:Kibworth Remembrance Day Parade & Service
DESCRIPTION:Join us on Sunday 9th November for Kibworth Remembrance Day\, a poignant community event honouring the courage and sacrifice of those who served. \n🕥 Parade Start: 10:30am\n📍 Starting Point: Grammar School Hall\n📍 Parade Route: From Grammar School Hall to St Wilfrid’s Church\n🕊️ Service Location: St Wilfrid’s Church \nLed by the stirring sounds of the Kibworth Band and Kibworth Youth Band\, the parade will feature proud participation from the Kibworth Scouts\, Kibworth Guides\, and representatives from the fire service. Together\, we will walk in remembrance and unity through the village to St Wilfrid’s Church\, where a traditional service will be held. \n🎺 Featuring: \n\nKibworth Band\nKibworth Youth Band\nKibworth Scouts & Guides\nFire Service Representatives\nLocal veterans and community groups\nRemembrance service with wreath laying and readings\n\nThis is a time for reflection\, gratitude\, and community spirit. All are welcome to attend and pay tribute.
URL:https://kibworthband.co.uk/event/kibworth-remembrance-day-parade-service/
LOCATION:St Wilfrid’s Church\, Church Road\, Kibworth\, Leicestershire\, LE8 0NB
CATEGORIES:All Bands
ATTACH;FMTTYPE=image/jpeg:https://kibworthband.co.uk/wp-content/uploads/2025/08/images.jpeg
ORGANIZER;CN="Kibworth Band":MAILTO:tickets@kibworthband.co.uk
GEO:52.5406527;-0.9931099
X-APPLE-STRUCTURED-LOCATION;VALUE=URI;X-ADDRESS=St Wilfrid’s Church Church Road Kibworth Leicestershire LE8 0NB;X-APPLE-RADIUS=500;X-TITLE=Church Road:geo:-0.9931099,52.5406527
END:VEVENT
BEGIN:VEVENT
DTSTART;TZID=Europe/London:20250913T150000
DTEND;TZID=Europe/London:20250913T180000
DTSTAMP:20260423T210801
CREATED:20250318T090045Z
LAST-MODIFIED:20260421T194414Z
UID:10000046-1757775600-1757786400@kibworthband.co.uk
SUMMARY:Kibworth Proms
DESCRIPTION:The Kibworth Band presents The Kibworth Proms \nLIMITED TICKETS AVAILABLE ON THE DOOR \nJoin us for a delightful evening of traditional British proms music. This event is organised in conjunction with the Well\, Kibworth\, a charity dedicated to providing assistance to those in need in Kibworth. \nDate: Saturday\, 13th September\nTime: 3:00pm\nLocation: Kibworth Community Hub\nTicket Prices: £8.00 \nTickets can be purchased at the Well\, 0116 279 0148 or through our website below. \nCome and enjoy a memorable performance by The Kibworth Band\, while supporting a great cause. We look forward to seeing you there – don’t forget your flags! \nLIMITED TICKETS AVAILABLE ON THE DOOR
URL:https://kibworthband.co.uk/event/proms2025/
LOCATION:Kibworth Community Hub\, School Road\, Kibworth Beauchamp\, Leicestershire\, LE8 0EW\, United Kingdom
CATEGORIES:Senior Band
ATTACH;FMTTYPE=image/jpeg:https://kibworthband.co.uk/wp-content/uploads/2025/03/Kibworth-Proms-25.jpg
ORGANIZER;CN="Kibworth Band":MAILTO:tickets@kibworthband.co.uk
GEO:52.5382023;-0.996833
X-APPLE-STRUCTURED-LOCATION;VALUE=URI;X-ADDRESS=Kibworth Community Hub School Road Kibworth Beauchamp Leicestershire LE8 0EW United Kingdom;X-APPLE-RADIUS=500;X-TITLE=School Road:geo:-0.996833,52.5382023
END:VEVENT
BEGIN:VEVENT
DTSTART;TZID=Europe/London:20250720T120000
DTEND;TZID=Europe/London:20250720T133000
DTSTAMP:20260423T210801
CREATED:20250318T090503Z
LAST-MODIFIED:20250617T133945Z
UID:10000048-1753012800-1753018200@kibworthband.co.uk
SUMMARY:Melton Park
DESCRIPTION:  \n\n\n\n\n\n\n\n\n\n\n\n\n\n\n\n 
URL:https://kibworthband.co.uk/event/melton-park/
LOCATION:Wilton Park\, Melton Mowbray\, Leicester Road\, Melton Mowbray\, Leicestershire\, LE13 0DZ\, United Kingdom
GEO:52.7629786;-0.892129
X-APPLE-STRUCTURED-LOCATION;VALUE=URI;X-ADDRESS=Wilton Park Melton Mowbray Leicester Road Melton Mowbray Leicestershire LE13 0DZ United Kingdom;X-APPLE-RADIUS=500;X-TITLE=Leicester Road:geo:-0.892129,52.7629786
END:VEVENT
BEGIN:VEVENT
DTSTART;TZID=Europe/London:20250705T150000
DTEND;TZID=Europe/London:20250705T180000
DTSTAMP:20260423T210801
CREATED:20250318T085904Z
LAST-MODIFIED:20250319T162838Z
UID:10000045-1751727600-1751738400@kibworthband.co.uk
SUMMARY:Summer Concert
DESCRIPTION: \n 
URL:https://kibworthband.co.uk/event/summer-concert/
LOCATION:Kibworth Community Hub\, School Road\, Kibworth Beauchamp\, Leicestershire\, LE8 0EW\, United Kingdom
CATEGORIES:All Bands,Senior Band,Youth Bands
ATTACH;FMTTYPE=image/jpeg:https://kibworthband.co.uk/wp-content/uploads/2025/03/Summer-25-Poster.jpg
ORGANIZER;CN="Kibworth Band":MAILTO:tickets@kibworthband.co.uk
GEO:52.5382023;-0.996833
X-APPLE-STRUCTURED-LOCATION;VALUE=URI;X-ADDRESS=Kibworth Community Hub School Road Kibworth Beauchamp Leicestershire LE8 0EW United Kingdom;X-APPLE-RADIUS=500;X-TITLE=School Road:geo:-0.996833,52.5382023
END:VEVENT
END:VCALENDAR