BEGIN:VCALENDAR
VERSION:2.0
PRODID:-//The Kibworth Band - ECPv6.15.20//NONSGML v1.0//EN
CALSCALE:GREGORIAN
METHOD:PUBLISH
X-ORIGINAL-URL:https://kibworthband.co.uk
X-WR-CALDESC:Events for The Kibworth Band
REFRESH-INTERVAL;VALUE=DURATION:PT1H
X-Robots-Tag:noindex
X-PUBLISHED-TTL:PT1H
BEGIN:VTIMEZONE
TZID:Europe/London
BEGIN:DAYLIGHT
TZOFFSETFROM:+0000
TZOFFSETTO:+0100
TZNAME:BST
DTSTART:20240331T010000
END:DAYLIGHT
BEGIN:STANDARD
TZOFFSETFROM:+0100
TZOFFSETTO:+0000
TZNAME:GMT
DTSTART:20241027T010000
END:STANDARD
BEGIN:DAYLIGHT
TZOFFSETFROM:+0000
TZOFFSETTO:+0100
TZNAME:BST
DTSTART:20250330T010000
END:DAYLIGHT
BEGIN:STANDARD
TZOFFSETFROM:+0100
TZOFFSETTO:+0000
TZNAME:GMT
DTSTART:20251026T010000
END:STANDARD
BEGIN:DAYLIGHT
TZOFFSETFROM:+0000
TZOFFSETTO:+0100
TZNAME:BST
DTSTART:20260329T010000
END:DAYLIGHT
BEGIN:STANDARD
TZOFFSETFROM:+0100
TZOFFSETTO:+0000
TZNAME:GMT
DTSTART:20261025T010000
END:STANDARD
END:VTIMEZONE
BEGIN:VEVENT
DTSTART;TZID=Europe/London:20251109T103000
DTEND;TZID=Europe/London:20251109T120000
DTSTAMP:20260423T030023
CREATED:20250806T125051Z
LAST-MODIFIED:20250806T125051Z
UID:10000049-1762684200-1762689600@kibworthband.co.uk
SUMMARY:Kibworth Remembrance Day Parade & Service
DESCRIPTION:Join us on Sunday 9th November for Kibworth Remembrance Day\, a poignant community event honouring the courage and sacrifice of those who served. \n🕥 Parade Start: 10:30am\n📍 Starting Point: Grammar School Hall\n📍 Parade Route: From Grammar School Hall to St Wilfrid’s Church\n🕊️ Service Location: St Wilfrid’s Church \nLed by the stirring sounds of the Kibworth Band and Kibworth Youth Band\, the parade will feature proud participation from the Kibworth Scouts\, Kibworth Guides\, and representatives from the fire service. Together\, we will walk in remembrance and unity through the village to St Wilfrid’s Church\, where a traditional service will be held. \n🎺 Featuring: \n\nKibworth Band\nKibworth Youth Band\nKibworth Scouts & Guides\nFire Service Representatives\nLocal veterans and community groups\nRemembrance service with wreath laying and readings\n\nThis is a time for reflection\, gratitude\, and community spirit. All are welcome to attend and pay tribute.
URL:https://kibworthband.co.uk/event/kibworth-remembrance-day-parade-service/
LOCATION:St Wilfrid’s Church\, Church Road\, Kibworth\, Leicestershire\, LE8 0NB
CATEGORIES:All Bands
ATTACH;FMTTYPE=image/jpeg:https://kibworthband.co.uk/wp-content/uploads/2025/08/images.jpeg
ORGANIZER;CN="Kibworth Band":MAILTO:tickets@kibworthband.co.uk
GEO:52.5406527;-0.9931099
X-APPLE-STRUCTURED-LOCATION;VALUE=URI;X-ADDRESS=St Wilfrid’s Church Church Road Kibworth Leicestershire LE8 0NB;X-APPLE-RADIUS=500;X-TITLE=Church Road:geo:-0.9931099,52.5406527
END:VEVENT
END:VCALENDAR